BEGIN:VCALENDAR
VERSION:2.0
PRODID:-//Charols - Site officiel - ECPv6.15.20//NONSGML v1.0//EN
CALSCALE:GREGORIAN
METHOD:PUBLISH
X-WR-CALNAME:Charols - Site officiel
X-ORIGINAL-URL:https://mairie.charols.fr
X-WR-CALDESC:Évènements pour Charols - Site officiel
REFRESH-INTERVAL;VALUE=DURATION:PT1H
X-Robots-Tag:noindex
X-PUBLISHED-TTL:PT1H
BEGIN:VTIMEZONE
TZID:Europe/Paris
BEGIN:DAYLIGHT
TZOFFSETFROM:+0100
TZOFFSETTO:+0200
TZNAME:CEST
DTSTART:20240331T010000
END:DAYLIGHT
BEGIN:STANDARD
TZOFFSETFROM:+0200
TZOFFSETTO:+0100
TZNAME:CET
DTSTART:20241027T010000
END:STANDARD
BEGIN:DAYLIGHT
TZOFFSETFROM:+0100
TZOFFSETTO:+0200
TZNAME:CEST
DTSTART:20250330T010000
END:DAYLIGHT
BEGIN:STANDARD
TZOFFSETFROM:+0200
TZOFFSETTO:+0100
TZNAME:CET
DTSTART:20251026T010000
END:STANDARD
BEGIN:DAYLIGHT
TZOFFSETFROM:+0100
TZOFFSETTO:+0200
TZNAME:CEST
DTSTART:20260329T010000
END:DAYLIGHT
BEGIN:STANDARD
TZOFFSETFROM:+0200
TZOFFSETTO:+0100
TZNAME:CET
DTSTART:20261025T010000
END:STANDARD
END:VTIMEZONE
BEGIN:VEVENT
DTSTART;TZID=Europe/Paris:20250706T230000
DTEND;TZID=Europe/Paris:20250706T230000
DTSTAMP:20260421T102158
CREATED:20250528T112523Z
LAST-MODIFIED:20250528T112557Z
UID:11567-1751842800-1751842800@mairie.charols.fr
SUMMARY:Feu d'artifice
DESCRIPTION:Date et heure :	\n			6 juillet\n\n	\n\n	  >  \n\n\n23h00\n\n			\n				\n				\n				\n				\n									Lieu : Stade de Foot 								\n				\n				\n				\n									 								\n				\n				\n				\n					\n	\n	Organisateur\n	Comité des fêtes\n	\n	\n\n	Site :Voir le site Organisateur \n\n\n\n				\n				\n				\n				\n					\n	\n		\n\n	\n	Ajouter au calendrier	\n		\n	\n\n		\n			\n									\n	Google Agenda\n\n									\n	iCalendar\n\n									\n	Outlook 365\n\n									\n	Outlook Live\n\n							\n		\n\n		\n	\n\n				\n				\n				\n				\n							\n			\n		\n						\n				\n					\n		\n					\n		\n				\n						\n					\n			\n						\n				\n							\n			\n						\n		\n						\n				\n				\n				\n					\n	\n		\n\n				La Traditionnelle Char'Omelette	\n\n\n		\n	\n		Ludobus
URL:https://mairie.charols.fr/evenement/feu-dartifice-3/
LOCATION:Stade de foot\, Charols\, 26450
ORGANIZER;CN="Comit%C3%A9 des f%C3%AAtes":MAILTO:comite.des.fetes.de.charols@gmail.com
END:VEVENT
END:VCALENDAR